BEGIN:VCALENDAR
PRODID:-//PUBBLE//agenda//NL
VERSION:2.0
METHOD:PUBLISH
BEGIN:VEVENT
DTSTART:20240211T120000Z
DTEND:20240211T140000Z
DTSTAMP:20260425T022259Z
UID:6d276a49-0d36-4b31-91a3-1656857c4e0e
CREATED:20260425T022259Z
NAME:Bluesgitarist Ralph de Jongh komt naar Dukenburg brugnijmegen.nl
X-WR-CALNAME:Bluesgitarist Ralph de Jongh komt naar Dukenburg
X-ALT-DESC;FMTTYPE=text/html:<a href='/agenda/2024/2/11/bluesgitarist-ralph-de-jongh-komt-naar-dukenburg-174387'>/agenda/2024/2/11/bluesgitarist-ralph-de-jongh-komt-naar-dukenburg-174387</a> || <p>Ralpf legt als in een trance zijn ziel bloot tijdens zijn concerten en opnames, in een stijl waarin alleen Ralpf de Jongh kan optreden.&nbsp;</p><p>In een fenomenale atmosfeer van geluid, waarin we kunnen terug kunnen dromen naar de tijden van vooroorlogse blues en de jaren zestig van Keith Richards en Mick Jagger ervaar je de schoonheid van dit fenomeen. Dit is puur... Dit is Ralpf de Jongh. .... Dit is emotie.&nbsp;</p><p>“Een van de beste songwriters van Nederland” - Music maker Magazine.</p><p>“Het is werkelijk een sensatie om deze blonde god aan het werk te zien” - het Parool.</p><p>“Een blues artiest van absolute wereldklasse”.&nbsp;</p><p>Kaarten:<a class="fr-strong" href="http://www.podium1390.nl" rel="noopener noreferrer" target="_blank">&nbsp;www.podium1390.nl</a></p>
DESCRIPTION:<a href='/agenda/2024/2/11/bluesgitarist-ralph-de-jongh-komt-naar-dukenburg-174387'>/agenda/2024/2/11/bluesgitarist-ralph-de-jongh-komt-naar-dukenburg-174387</a> || <p>Ralpf legt als in een trance zijn ziel bloot tijdens zijn concerten en opnames, in een stijl waarin alleen Ralpf de Jongh kan optreden.&nbsp;</p><p>In een fenomenale atmosfeer van geluid, waarin we kunnen terug kunnen dromen naar de tijden van vooroorlogse blues en de jaren zestig van Keith Richards en Mick Jagger ervaar je de schoonheid van dit fenomeen. Dit is puur... Dit is Ralpf de Jongh. .... Dit is emotie.&nbsp;</p><p>“Een van de beste songwriters van Nederland” - Music maker Magazine.</p><p>“Het is werkelijk een sensatie om deze blonde god aan het werk te zien” - het Parool.</p><p>“Een blues artiest van absolute wereldklasse”.&nbsp;</p><p>Kaarten:<a class="fr-strong" href="http://www.podium1390.nl" rel="noopener noreferrer" target="_blank">&nbsp;www.podium1390.nl</a></p>
LAST-MODIFIED:20260425T022259Z
LOCATION: Lindenberg Aldenhof | Aldenhof 13-90 Nijmegen
SEQUENCE:0
STATUS:CONFIRMED
SUMMARY:Bluesgitarist Ralph de Jongh komt naar Dukenburg
TRANSP:OPAQUE
END:VEVENT
END:VCALENDAR
