BEGIN:VCALENDAR
PRODID:-//PUBBLE//agenda//NL
VERSION:2.0
METHOD:PUBLISH
BEGIN:VEVENT
DTSTART:20240413T063000Z
DTEND:20240420T160000Z
DTSTAMP:20260425T163203Z
UID:e310c741-9b32-43ad-9ae5-7f8dd1450f37
CREATED:20260425T163203Z
NAME:(top)turners in actie tijdens Bondsfinale brugnijmegen.nl
X-WR-CALNAME:(top)turners in actie tijdens Bondsfinale
X-ALT-DESC;FMTTYPE=text/html:<a href='/agenda/2024/4/20/-top-turners-in-actie-tijdens-bondsfinale-178969'>/agenda/2024/4/20/-top-turners-in-actie-tijdens-bondsfinale-178969</a> || <p>De Hazenkamp Gymsports organiseert in het weekend van 20 &amp; 21 april in samenwerking met de KNGU (turnbond) de bondsfinale turnen heren in de Jan Massinkhal. Tijdens deze wedstrijden komende de beste turners (ere t/m 2de div.) uit heel Nederland samen om een plekje te veroveren op het podium tijdens de individuele meerkamp en/of toestelfinale.</p><p>Sinds de komst van het moderne sport complex SportQube is de afdeling turnen heren in Nijmegen verviervoudig en is daarmee club ook duidelijk vertegenwoordigd met sporters op dit niveau. Op 6 april hebben de oudste sporters die de afdeling kent binnen de 2de divisie geplaatst voor deze bondfinale.&nbsp;</p><p>De bondsfinale (20 &amp; 21 april) is voor iedereen toegankelijk om te komen kijken en voor de kinderen is de mogelijkheid om lekker te komen bewegen op het beweegplein aangeboden door onze hoofdsponsors Airtrack Factory. Kom jij onze toppers aanmoedigen? Kijk op onze website om te zien wanneer onze sporters in actie en voor meer informatie.</p>
DESCRIPTION:<a href='/agenda/2024/4/20/-top-turners-in-actie-tijdens-bondsfinale-178969'>/agenda/2024/4/20/-top-turners-in-actie-tijdens-bondsfinale-178969</a> || <p>De Hazenkamp Gymsports organiseert in het weekend van 20 &amp; 21 april in samenwerking met de KNGU (turnbond) de bondsfinale turnen heren in de Jan Massinkhal. Tijdens deze wedstrijden komende de beste turners (ere t/m 2de div.) uit heel Nederland samen om een plekje te veroveren op het podium tijdens de individuele meerkamp en/of toestelfinale.</p><p>Sinds de komst van het moderne sport complex SportQube is de afdeling turnen heren in Nijmegen verviervoudig en is daarmee club ook duidelijk vertegenwoordigd met sporters op dit niveau. Op 6 april hebben de oudste sporters die de afdeling kent binnen de 2de divisie geplaatst voor deze bondfinale.&nbsp;</p><p>De bondsfinale (20 &amp; 21 april) is voor iedereen toegankelijk om te komen kijken en voor de kinderen is de mogelijkheid om lekker te komen bewegen op het beweegplein aangeboden door onze hoofdsponsors Airtrack Factory. Kom jij onze toppers aanmoedigen? Kijk op onze website om te zien wanneer onze sporters in actie en voor meer informatie.</p>
LAST-MODIFIED:20260425T163203Z
LOCATION: Jan Massinkhal |   Nijmegen
SEQUENCE:0
STATUS:CONFIRMED
SUMMARY:(top)turners in actie tijdens Bondsfinale
TRANSP:OPAQUE
END:VEVENT
END:VCALENDAR
