BEGIN:VCALENDAR
PRODID:-//PUBBLE//agenda//NL
VERSION:2.0
METHOD:PUBLISH
BEGIN:VEVENT
DTSTART:20241213T180000Z
DTEND:20241213T200000Z
DTSTAMP:20260419T133553Z
UID:352f5b5d-5e17-4697-9800-f8d3eafc8762
CREATED:20260419T133553Z
NAME:Stefan Hendrikx brengt hilarische zoektocht naar mannelijkheid met Who’s The Man brugnijmegen.nl
X-WR-CALNAME:Stefan Hendrikx brengt hilarische zoektocht naar mannelijkheid met Who’s The Man
X-ALT-DESC;FMTTYPE=text/html:<a href='/agenda/2024/12/13/stefan-hendrikx-brengt-hilarische-zoektocht-naar-mannelijkheid-met-whos-the-man-190689'>/agenda/2024/12/13/stefan-hendrikx-brengt-hilarische-zoektocht-naar-mannelijkheid-met-whos-the-man-190689</a> || <p>Stefan Hendrikx, winnaar van het <em>Leids Cabaret Festival 2022</em> en genomineerde cabaretprijs <em>Neerlands Hoop,</em> komt naar Nijmegen zijn eerste solovoorstelling <em>Who’s The Man</em>.&nbsp;</p><p>In deze humoristische en confronterende show duikt Hendrikx in de vraag: wat betekent het vandaag de dag om ‘de man’ te zijn? Met zijn scherpe humor, herkenbare verhalen en improvisatietalent neemt de cabaretier het publiek mee in een wervelende avond vol zelfspot en observaties over identiteit, verwachtingen en moderne mannelijkheid.&nbsp;</p><p>Hendrikx, bekend van zijn werk met het improvisatieduo <em>Beperkt Houdbaar</em> (samen met Andries Tunru) en de podcast <em>Radio Willekeur</em>, weet als geen ander hoe hij de zaal aan het lachen krijgt én aan het denken zet. De voorstelling krijgt lovende recensies wordt geprezen om de unieke combinatie van humor en diepgang. Vrijdagavond 13 december in Theater de Klif. Tickets: <a class="fr-strong" href="http://www.theaterdeklif.nl" rel="noopener noreferrer" target="_blank">www.theaterdeklif.nl</a></p>
DESCRIPTION:<a href='/agenda/2024/12/13/stefan-hendrikx-brengt-hilarische-zoektocht-naar-mannelijkheid-met-whos-the-man-190689'>/agenda/2024/12/13/stefan-hendrikx-brengt-hilarische-zoektocht-naar-mannelijkheid-met-whos-the-man-190689</a> || <p>Stefan Hendrikx, winnaar van het <em>Leids Cabaret Festival 2022</em> en genomineerde cabaretprijs <em>Neerlands Hoop,</em> komt naar Nijmegen zijn eerste solovoorstelling <em>Who’s The Man</em>.&nbsp;</p><p>In deze humoristische en confronterende show duikt Hendrikx in de vraag: wat betekent het vandaag de dag om ‘de man’ te zijn? Met zijn scherpe humor, herkenbare verhalen en improvisatietalent neemt de cabaretier het publiek mee in een wervelende avond vol zelfspot en observaties over identiteit, verwachtingen en moderne mannelijkheid.&nbsp;</p><p>Hendrikx, bekend van zijn werk met het improvisatieduo <em>Beperkt Houdbaar</em> (samen met Andries Tunru) en de podcast <em>Radio Willekeur</em>, weet als geen ander hoe hij de zaal aan het lachen krijgt én aan het denken zet. De voorstelling krijgt lovende recensies wordt geprezen om de unieke combinatie van humor en diepgang. Vrijdagavond 13 december in Theater de Klif. Tickets: <a class="fr-strong" href="http://www.theaterdeklif.nl" rel="noopener noreferrer" target="_blank">www.theaterdeklif.nl</a></p>
LAST-MODIFIED:20260419T133553Z
LOCATION: Theater de Klif | Pijlpuntstraat 1 Nijmegen
SEQUENCE:0
STATUS:CONFIRMED
SUMMARY:Stefan Hendrikx brengt hilarische zoektocht naar mannelijkheid met Who’s The Man
TRANSP:OPAQUE
END:VEVENT
END:VCALENDAR
