BEGIN:VCALENDAR
PRODID:-//PUBBLE//agenda//NL
VERSION:2.0
METHOD:PUBLISH
BEGIN:VEVENT
DTSTART:20250116T180000Z
DTEND:20250116T203000Z
DTSTAMP:20260421T143523Z
UID:93b83621-d989-4339-aa74-6ab2addfbe13
CREATED:20260421T143523Z
NAME:Pubquiz bij BUUR West brugnijmegen.nl
X-WR-CALNAME:Pubquiz bij BUUR West
X-ALT-DESC;FMTTYPE=text/html:<a href='/agenda/2025/1/16/pubquiz-bij-buur-west-192910'>/agenda/2025/1/16/pubquiz-bij-buur-west-192910</a> || <p>Op donderdag 16 januari is er weer een BUUR x Upbeatles pubquiz!&nbsp;</p><p>Je kan je opgeven met een team van 2 tot 6 personen door een mailtje te sturen naar info@buurwest.nl.&nbsp;</p><p>De quiz kost 5 euro p.p. Inloop om 20:00u, start van de quiz om 20:30u.&nbsp;</p><p>Dus geef de bitterballen maar door en krab je achter het oor (hoe heette die rapper ook alweer??). Graag tot dan!&nbsp;</p>
DESCRIPTION:<a href='/agenda/2025/1/16/pubquiz-bij-buur-west-192910'>/agenda/2025/1/16/pubquiz-bij-buur-west-192910</a> || <p>Op donderdag 16 januari is er weer een BUUR x Upbeatles pubquiz!&nbsp;</p><p>Je kan je opgeven met een team van 2 tot 6 personen door een mailtje te sturen naar info@buurwest.nl.&nbsp;</p><p>De quiz kost 5 euro p.p. Inloop om 20:00u, start van de quiz om 20:30u.&nbsp;</p><p>Dus geef de bitterballen maar door en krab je achter het oor (hoe heette die rapper ook alweer??). Graag tot dan!&nbsp;</p>
LAST-MODIFIED:20260421T143523Z
LOCATION: BUUR West | Voorstadslaan  Nijmegen
SEQUENCE:0
STATUS:CONFIRMED
SUMMARY:Pubquiz bij BUUR West
TRANSP:OPAQUE
END:VEVENT
END:VCALENDAR
