BEGIN:VCALENDAR
PRODID:-//PUBBLE//agenda//NL
VERSION:2.0
METHOD:PUBLISH
BEGIN:VEVENT
DTSTART:20251030T173000Z
DTEND:20251030T200000Z
DTSTAMP:20260421T150943Z
UID:4014d2c4-f5da-4e25-b7db-cd08a45c8c9e
CREATED:20260421T150943Z
NAME:Borrel – Stroomversneller & Groeispurtborrel Nijmegen brugnijmegen.nl
X-WR-CALNAME:Borrel – Stroomversneller & Groeispurtborrel Nijmegen
X-ALT-DESC;FMTTYPE=text/html:<a href='/agenda/2025/10/30/borrel-stroomversneller-groeispurtborrel-nijmegen-204002'>/agenda/2025/10/30/borrel-stroomversneller-groeispurtborrel-nijmegen-204002</a> || <p>Informele netwerkborrel voor culturele makers uit Arnhem en Nijmegen. Ontdek wat de trajecten Stroomversneller en Groeispurt voor jou kunnen betekenen, ontmoet oud-deelnemers, en stel je vragen aan de Kunstenbond en fondscoördinatoren.&nbsp;</p><p>Deze bijeenkomst wordt georganiseerd door Cultuur Academy.</p><p>Datum: 30 oktober van 19:30 – 22:00 uur in De Werkplaats Nijmegen</p><p>Kosten: Gratis</p><p>Info:<a class="fr-strong" href="https://www.cultuuracademy.nl/agenda/stroomversneller-and-groeispurtborrel-nijmegen" rel="noopener noreferrer" target="_blank"> https://www.cultuuracademy.nl/agenda/stroomversneller-and-groeispurtborrel-nijmegen</a></p>
DESCRIPTION:<a href='/agenda/2025/10/30/borrel-stroomversneller-groeispurtborrel-nijmegen-204002'>/agenda/2025/10/30/borrel-stroomversneller-groeispurtborrel-nijmegen-204002</a> || <p>Informele netwerkborrel voor culturele makers uit Arnhem en Nijmegen. Ontdek wat de trajecten Stroomversneller en Groeispurt voor jou kunnen betekenen, ontmoet oud-deelnemers, en stel je vragen aan de Kunstenbond en fondscoördinatoren.&nbsp;</p><p>Deze bijeenkomst wordt georganiseerd door Cultuur Academy.</p><p>Datum: 30 oktober van 19:30 – 22:00 uur in De Werkplaats Nijmegen</p><p>Kosten: Gratis</p><p>Info:<a class="fr-strong" href="https://www.cultuuracademy.nl/agenda/stroomversneller-and-groeispurtborrel-nijmegen" rel="noopener noreferrer" target="_blank"> https://www.cultuuracademy.nl/agenda/stroomversneller-and-groeispurtborrel-nijmegen</a></p>
LAST-MODIFIED:20260421T150943Z
LOCATION: De Werkplaats | Derde Walstraat 98 Nijmegen
SEQUENCE:0
STATUS:CONFIRMED
SUMMARY:Borrel – Stroomversneller & Groeispurtborrel Nijmegen
TRANSP:OPAQUE
END:VEVENT
END:VCALENDAR
