BEGIN:VCALENDAR
PRODID:-//PUBBLE//agenda//NL
VERSION:2.0
METHOD:PUBLISH
BEGIN:VEVENT
DTSTART:20250911T082720Z
DTEND:20250911T092720Z
DTSTAMP:20260424T161358Z
UID:251dbbeb-292e-4a41-888b-72ed68434476
CREATED:20260424T161358Z
NAME:‘On-dragelijk’: lichamelijke ervaring van machteloosheid en draagkracht brugnijmegen.nl
X-WR-CALNAME:‘On-dragelijk’: lichamelijke ervaring van machteloosheid en draagkracht
X-ALT-DESC;FMTTYPE=text/html:<a href='/agenda/2025/9/28/on-dragelijk-lichamelijke-ervaring-van-machteloosheid-en-draagkracht-205685'>/agenda/2025/9/28/on-dragelijk-lichamelijke-ervaring-van-machteloosheid-en-draagkracht-205685</a> || <p>NIJMEGEN - De oorlog in Gaza roept wereldwijd machteloosheid en protest op. In de programmalijn ‘Alle ogen op Palestina’ onderzoekt LUX Nijmegen deze gevoelens met films, theater, poëzie, gesprekken en ervaringsgerichte programma’s. De voorstelling ‘Deadlift’ van de Palestijnse theatermaker Bashar Murkus maakt onderdeel uit van deze programmalijn. Deze voorstelling gaat over wortels, kunst en cultuur, en over de draagkracht van de menselijke ziel. Hoe dragen we geschiedenis, pijn en herinneringen – individueel én collectief?</p><p>Rondom deze voorstelling ontwikkelde LUX het ervaringsprogramma ‘On-dragelijk’ gemaakt door de programmamaker en theatermaker Ilse Schaminée. “Door te werken met beweging, ruimte en verbeelding ontstaat er ruimte om iets wat vaak als onzegbaar voelt, toch te benaderen. Niet om pijn op te lossen, maar om contact te maken met wat ons raakt – en wat ons in beweging kan brengen.”&nbsp;</p><p>Het programma wordt ingeleid door Lema Salah (programmamaker en onderzoeker bij het NIOD) en Tineke Strik (Europarlementariër voor GroenLinks). Het programma wordt begeleid door lichaamsgericht therapeut Meis Thewissen. In een veilige setting nodigt zij deelnemers uit om te vertragen, te voelen en betekenis te geven aan wat zij meedragen.&nbsp;</p><p>‘On-dragelijk’ in LUX zondag 28 september vanaf 13.00 uur. Meer informatie en tickets via <a class="fr-strong" href="https://www.lux-nijmegen.nl/" rel="noopener noreferrer" target="_blank">https://www.lux-nijmegen.nl/ &nbsp;</a></p>
DESCRIPTION:<a href='/agenda/2025/9/28/on-dragelijk-lichamelijke-ervaring-van-machteloosheid-en-draagkracht-205685'>/agenda/2025/9/28/on-dragelijk-lichamelijke-ervaring-van-machteloosheid-en-draagkracht-205685</a> || <p>NIJMEGEN - De oorlog in Gaza roept wereldwijd machteloosheid en protest op. In de programmalijn ‘Alle ogen op Palestina’ onderzoekt LUX Nijmegen deze gevoelens met films, theater, poëzie, gesprekken en ervaringsgerichte programma’s. De voorstelling ‘Deadlift’ van de Palestijnse theatermaker Bashar Murkus maakt onderdeel uit van deze programmalijn. Deze voorstelling gaat over wortels, kunst en cultuur, en over de draagkracht van de menselijke ziel. Hoe dragen we geschiedenis, pijn en herinneringen – individueel én collectief?</p><p>Rondom deze voorstelling ontwikkelde LUX het ervaringsprogramma ‘On-dragelijk’ gemaakt door de programmamaker en theatermaker Ilse Schaminée. “Door te werken met beweging, ruimte en verbeelding ontstaat er ruimte om iets wat vaak als onzegbaar voelt, toch te benaderen. Niet om pijn op te lossen, maar om contact te maken met wat ons raakt – en wat ons in beweging kan brengen.”&nbsp;</p><p>Het programma wordt ingeleid door Lema Salah (programmamaker en onderzoeker bij het NIOD) en Tineke Strik (Europarlementariër voor GroenLinks). Het programma wordt begeleid door lichaamsgericht therapeut Meis Thewissen. In een veilige setting nodigt zij deelnemers uit om te vertragen, te voelen en betekenis te geven aan wat zij meedragen.&nbsp;</p><p>‘On-dragelijk’ in LUX zondag 28 september vanaf 13.00 uur. Meer informatie en tickets via <a class="fr-strong" href="https://www.lux-nijmegen.nl/" rel="noopener noreferrer" target="_blank">https://www.lux-nijmegen.nl/ &nbsp;</a></p>
LAST-MODIFIED:20260424T161358Z
LOCATION: LUX |   Nijmegen
SEQUENCE:0
STATUS:CONFIRMED
SUMMARY:‘On-dragelijk’: lichamelijke ervaring van machteloosheid en draagkracht
TRANSP:OPAQUE
END:VEVENT
END:VCALENDAR
