BEGIN:VCALENDAR
PRODID:-//PUBBLE//agenda//NL
VERSION:2.0
METHOD:PUBLISH
BEGIN:VEVENT
DTSTART:20251009T085110Z
DTEND:20251015T140000Z
DTSTAMP:20260421T160838Z
UID:caf22ea0-178d-44c5-aa73-f936ae949242
CREATED:20260421T160838Z
NAME:Ontdek de wereld van taxidermie brugnijmegen.nl
X-WR-CALNAME:Ontdek de wereld van taxidermie
X-ALT-DESC;FMTTYPE=text/html:<a href='/agenda/2025/10/15/ontdek-de-wereld-van-taxidermie-207512'>/agenda/2025/10/15/ontdek-de-wereld-van-taxidermie-207512</a> || <p>NIJMEGEN - Altijd al willen weten hoe een vogel wordt opgezet? Woensdag 15 oktober geeft de Museumwinkel.com te Nijmegen van 10.00 tot 16.00 uur een exclusief kijkje achter de schermen met preparateur Rick Way, meervoudig Nederlands kampioen prepareren. De hele dag door verzorgt Rick fascinerende demonstraties waarin hij alle geheimen van dit eeuwenoude vak onthult.</p><p>Rick, gespecialiseerd in het opzetten van vogels, heeft tijdens diverse Nederlandse en Europese kampioenschappen meerdere titels gewonnen en enkele awards in de wacht gesleept. Passie en vakmanschap staan voorop, en jij kan dit van dichtbij meemaken! Hoe gaat dat prepareren nou precies in zijn werk? Rick laat het je zien.</p><p>Bezoekers – jong en oud – zijn welkom om vragen te stellen en het proces van dichtbij te volgen. De demonstraties vinden plaats tijdens de herfstvakantie, waardoor het een ideaal uitje is voor gezinnen en natuurliefhebbers.</p><p>“Opgezette dieren hebben hun stoffige imago al lang geleden verloren. De schoonheid van de natuur willen we laten zien en we halen de natuur in huis. Natuurlijk is het heel belangrijk dat deze producten verantwoord zijn. Alle dieren waar de Museumwinkel.com mee werkt, zijn dan ook een natuurlijke dood gestorven in bijvoorbeeld dierentuinen.”</p><p>Kom langs! Toegang is gratis en vooraf aanmelden is niet nodig. Deze hele dag krijg je ook nog eens 15% korting op het gehele assortiment in de winkel.</p><p>De demonstraties vinden plaats bij de Museumwinkel.com in de Van Welderenstraat 114 te Nijmegen. Meer info&nbsp;<a class="fr-strong" href="http://www.demuseumwinkel.com" rel="noopener noreferrer" target="_blank">www.demuseumwinkel.com </a></p>
DESCRIPTION:<a href='/agenda/2025/10/15/ontdek-de-wereld-van-taxidermie-207512'>/agenda/2025/10/15/ontdek-de-wereld-van-taxidermie-207512</a> || <p>NIJMEGEN - Altijd al willen weten hoe een vogel wordt opgezet? Woensdag 15 oktober geeft de Museumwinkel.com te Nijmegen van 10.00 tot 16.00 uur een exclusief kijkje achter de schermen met preparateur Rick Way, meervoudig Nederlands kampioen prepareren. De hele dag door verzorgt Rick fascinerende demonstraties waarin hij alle geheimen van dit eeuwenoude vak onthult.</p><p>Rick, gespecialiseerd in het opzetten van vogels, heeft tijdens diverse Nederlandse en Europese kampioenschappen meerdere titels gewonnen en enkele awards in de wacht gesleept. Passie en vakmanschap staan voorop, en jij kan dit van dichtbij meemaken! Hoe gaat dat prepareren nou precies in zijn werk? Rick laat het je zien.</p><p>Bezoekers – jong en oud – zijn welkom om vragen te stellen en het proces van dichtbij te volgen. De demonstraties vinden plaats tijdens de herfstvakantie, waardoor het een ideaal uitje is voor gezinnen en natuurliefhebbers.</p><p>“Opgezette dieren hebben hun stoffige imago al lang geleden verloren. De schoonheid van de natuur willen we laten zien en we halen de natuur in huis. Natuurlijk is het heel belangrijk dat deze producten verantwoord zijn. Alle dieren waar de Museumwinkel.com mee werkt, zijn dan ook een natuurlijke dood gestorven in bijvoorbeeld dierentuinen.”</p><p>Kom langs! Toegang is gratis en vooraf aanmelden is niet nodig. Deze hele dag krijg je ook nog eens 15% korting op het gehele assortiment in de winkel.</p><p>De demonstraties vinden plaats bij de Museumwinkel.com in de Van Welderenstraat 114 te Nijmegen. Meer info&nbsp;<a class="fr-strong" href="http://www.demuseumwinkel.com" rel="noopener noreferrer" target="_blank">www.demuseumwinkel.com </a></p>
LAST-MODIFIED:20260421T160838Z
LOCATION: Museumwinkel.com | Van Welderenstraat 114 Nijmegen
SEQUENCE:0
STATUS:CONFIRMED
SUMMARY:Ontdek de wereld van taxidermie
TRANSP:OPAQUE
END:VEVENT
END:VCALENDAR
