BEGIN:VCALENDAR
PRODID:-//PUBBLE//agenda//NL
VERSION:2.0
METHOD:PUBLISH
BEGIN:VEVENT
DTSTART:20251026T070613Z
DTEND:20251105T183000Z
DTSTAMP:20260424T165002Z
UID:c256765e-ae7b-4b31-904a-6373a8ce4a98
CREATED:20260424T165002Z
NAME:Ontdek jouw toekomst in Zorg en Welzijn brugnijmegen.nl
X-WR-CALNAME:Ontdek jouw toekomst in Zorg en Welzijn
X-ALT-DESC;FMTTYPE=text/html:<a href='/agenda/2025/11/5/ontdek-jouw-toekomst-in-zorg-en-welzijn-208535'>/agenda/2025/11/5/ontdek-jouw-toekomst-in-zorg-en-welzijn-208535</a> || <p>NIJMEGEN - Benieuwd naar een carrière in Zorg en Welzijn? Ontdek je mogelijkheden op woensdag 5 november tijdens Ontdek Zorg en Welzijn Live in Nijmegen. Ontmoet tussen 18.30 en 20.30 uur bij ROC Nijmegen aan de Campusbaan 6 in Nijmegen meer dan twintig werkgevers uit de sector Zorg en Welzijn. Ervaren loopbaanbegeleiders staan voor je klaar om tips te geven en mee te denken over jouw toekomst.&nbsp;</p><p>Of je nu op zoek bent naar een eerste baan, een carrièreswitch overweegt, of nieuwsgierig bent naar wat Zorg en Welzijn te bieden heeft: dit is de kans om je te oriënteren.&nbsp;</p><p>Ga in gesprek met werkgevers, ontdek alles over de opleidingen van vier onderwijsorganisaties in en om de regio Nijmegen en stel al je vragen aan de loopbaanbegeleiders en coaches.&nbsp;</p><p>Maak kennis met werkgevers uit verschillende werkvelden in Zorg en Welzijn: geestelijke gezondheidszorg (ggz), gehandicaptenzorg, huisartsenzorg, jeugdzorg, kinderopvang, verpleeg- verzorgingshuizen en thuiszorg en ziekenhuizen.</p><p>Aanmelden:<strong>&nbsp;</strong><a class="fr-strong" href="http://werkeninzorgenwelzijn.nl/ontdek-live/nijmegen" rel="noopener noreferrer" target="_blank">werkeninzorgenwelzijn.nl/ontdek-live/nijmegen</a></p>
DESCRIPTION:<a href='/agenda/2025/11/5/ontdek-jouw-toekomst-in-zorg-en-welzijn-208535'>/agenda/2025/11/5/ontdek-jouw-toekomst-in-zorg-en-welzijn-208535</a> || <p>NIJMEGEN - Benieuwd naar een carrière in Zorg en Welzijn? Ontdek je mogelijkheden op woensdag 5 november tijdens Ontdek Zorg en Welzijn Live in Nijmegen. Ontmoet tussen 18.30 en 20.30 uur bij ROC Nijmegen aan de Campusbaan 6 in Nijmegen meer dan twintig werkgevers uit de sector Zorg en Welzijn. Ervaren loopbaanbegeleiders staan voor je klaar om tips te geven en mee te denken over jouw toekomst.&nbsp;</p><p>Of je nu op zoek bent naar een eerste baan, een carrièreswitch overweegt, of nieuwsgierig bent naar wat Zorg en Welzijn te bieden heeft: dit is de kans om je te oriënteren.&nbsp;</p><p>Ga in gesprek met werkgevers, ontdek alles over de opleidingen van vier onderwijsorganisaties in en om de regio Nijmegen en stel al je vragen aan de loopbaanbegeleiders en coaches.&nbsp;</p><p>Maak kennis met werkgevers uit verschillende werkvelden in Zorg en Welzijn: geestelijke gezondheidszorg (ggz), gehandicaptenzorg, huisartsenzorg, jeugdzorg, kinderopvang, verpleeg- verzorgingshuizen en thuiszorg en ziekenhuizen.</p><p>Aanmelden:<strong>&nbsp;</strong><a class="fr-strong" href="http://werkeninzorgenwelzijn.nl/ontdek-live/nijmegen" rel="noopener noreferrer" target="_blank">werkeninzorgenwelzijn.nl/ontdek-live/nijmegen</a></p>
LAST-MODIFIED:20260424T165002Z
LOCATION: ROC Nijmegen | Campusbaan 6 Nijmegen
SEQUENCE:0
STATUS:CONFIRMED
SUMMARY:Ontdek jouw toekomst in Zorg en Welzijn
TRANSP:OPAQUE
END:VEVENT
END:VCALENDAR
