BEGIN:VCALENDAR
PRODID:-//PUBBLE//agenda//NL
VERSION:2.0
METHOD:PUBLISH
BEGIN:VEVENT
DTSTART:20260516T100000Z
DTEND:20260530T150000Z
DTSTAMP:20260425T181818Z
UID:4831d68b-7553-4f21-88a8-b0ff7bfb4961
CREATED:20260425T181818Z
NAME:Ivan van den Broek exposeert Constructed Silence II brugnijmegen.nl
X-WR-CALNAME:Ivan van den Broek exposeert Constructed Silence II
X-ALT-DESC;FMTTYPE=text/html:<a href='/agenda/2026/5/16/ivan-van-den-broek-exposeert-constructed-silence-ii-215335'>/agenda/2026/5/16/ivan-van-den-broek-exposeert-constructed-silence-ii-215335</a> || <p>Constructed Silence II – Ivan van den Broek</p><p>In de Sint Jacobskapel in Nijmegen presenteert kunstenaar Ivan van den Broek de tentoonstelling Constructed Silence II. In zijn schilderijen onderzoekt hij stilte als innerlijke ruimte. Met geometrische structuren en gelaagde kleurvelden ontstaan beelden die balanceren tussen figuratie en abstractie.</p><p>Locatie: Sint Jacobskapel, Nijmegen.</p>
DESCRIPTION:<a href='/agenda/2026/5/16/ivan-van-den-broek-exposeert-constructed-silence-ii-215335'>/agenda/2026/5/16/ivan-van-den-broek-exposeert-constructed-silence-ii-215335</a> || <p>Constructed Silence II – Ivan van den Broek</p><p>In de Sint Jacobskapel in Nijmegen presenteert kunstenaar Ivan van den Broek de tentoonstelling Constructed Silence II. In zijn schilderijen onderzoekt hij stilte als innerlijke ruimte. Met geometrische structuren en gelaagde kleurvelden ontstaan beelden die balanceren tussen figuratie en abstractie.</p><p>Locatie: Sint Jacobskapel, Nijmegen.</p>
LAST-MODIFIED:20260425T181818Z
LOCATION: Sint Jacobskapel | Glashuis 4 Nijmegen
SEQUENCE:0
STATUS:CONFIRMED
SUMMARY:Ivan van den Broek exposeert Constructed Silence II
TRANSP:OPAQUE
END:VEVENT
END:VCALENDAR
