BEGIN:VCALENDAR
PRODID:-//PUBBLE//agenda//NL
VERSION:2.0
METHOD:PUBLISH
BEGIN:VEVENT
DTSTART:20260407T061323Z
DTEND:20260421T190000Z
DTSTAMP:20260421T120926Z
UID:9d90a20a-11e2-431e-951b-819ca41fc510
CREATED:20260421T120926Z
NAME:Alzheimer Café: ‘Wat bedoel je?’ brugnijmegen.nl
X-WR-CALNAME:Alzheimer Café: ‘Wat bedoel je?’
X-ALT-DESC;FMTTYPE=text/html:<a href='/agenda/2026/4/21/alzheimer-cafe-wat-bedoel-je--217061'>/agenda/2026/4/21/alzheimer-cafe-wat-bedoel-je--217061</a> || <p>NIJMEGEN - Communicatie kan lastig zijn wanneer er taalproblemen ontstaan en je elkaar niet meer goed begrijpt. Hoe blijf je dan toch met elkaar in gesprek op een prettige manier? 
</p><p>Kom naar het Alzheimer Café op dinsdag 21 april in het Oud Burgeren Gasthuis aan de Prof. Cornelissenstraat 2 in Arnhem. Een logopediste bespreekt wat er aan de hand kan zijn. En ze geeft tips en handvatten hoe hiermee om te gaan.  Inloop vanaf 19.00 uur, de bijeenkomst is van 19.30 tot 21.00 uur. De toegang is gratis.</p>
DESCRIPTION:<a href='/agenda/2026/4/21/alzheimer-cafe-wat-bedoel-je--217061'>/agenda/2026/4/21/alzheimer-cafe-wat-bedoel-je--217061</a> || <p>NIJMEGEN - Communicatie kan lastig zijn wanneer er taalproblemen ontstaan en je elkaar niet meer goed begrijpt. Hoe blijf je dan toch met elkaar in gesprek op een prettige manier? 
</p><p>Kom naar het Alzheimer Café op dinsdag 21 april in het Oud Burgeren Gasthuis aan de Prof. Cornelissenstraat 2 in Arnhem. Een logopediste bespreekt wat er aan de hand kan zijn. En ze geeft tips en handvatten hoe hiermee om te gaan.  Inloop vanaf 19.00 uur, de bijeenkomst is van 19.30 tot 21.00 uur. De toegang is gratis.</p>
LAST-MODIFIED:20260421T120926Z
LOCATION: OBG | Prof. Cornelissenstraat 2  Nijmegen
SEQUENCE:0
STATUS:CONFIRMED
SUMMARY:Alzheimer Café: ‘Wat bedoel je?’
TRANSP:OPAQUE
END:VEVENT
END:VCALENDAR
