BEGIN:VCALENDAR
PRODID:-//PUBBLE//agenda//NL
VERSION:2.0
METHOD:PUBLISH
BEGIN:VEVENT
DTSTART:20260419T131500Z
DTEND:20260508T153000Z
DTSTAMP:20260425T181931Z
UID:da0691f9-39fc-45e8-b905-03855cd03f6e
CREATED:20260425T181931Z
NAME:Steely Again: Steely Dan tribute brugnijmegen.nl
X-WR-CALNAME:Steely Again: Steely Dan tribute
X-ALT-DESC;FMTTYPE=text/html:<a href='/agenda/2026/4/19/steely-again-steely-dan-tribute-217195'>/agenda/2026/4/19/steely-again-steely-dan-tribute-217195</a> || <p>Op zondag 19 april staat Steely Again, de Steely Dan tribute band, in Brebl. Met een mix van passie, muzikaliteit en precisie brengen de muzikanten de tijdloze muziek van Steely Dan weer helemaal tot leven. Denk aan loepzuivere blazers, strakke grooves en jazzy zangharmonieën.</p><p>Steely Again brengt een zorgvuldig samengesteld eerbetoon aan het werk van Steely Dan, een band die bekendstaat om haar eigenzinnige en verfijnde muziekstijl, waarin jazz, rock en complexe arrangementen samenkomen. De 11-koppige band heeft een uitgebreide bezetting waarmee de kenmerkende sound en gelaagdheid van Steely Dan zo authentiek mogelijk wordt benaderd. Het optreden biedt een middag vol herkenning en muzikale finesse.</p><p>Brebl, 19 april 15.15 uur, tickets via Brebl € 10,00 VVK, € 13,00 ADD</p><p>Bezetting: Johan Willems - zang Hans te Pas - gitaar Jack Verhoeven - toetsen Armand Wemelsfelder - bas Raymond Falkenburg - drums Hans Govaart - trompet Joost de Roij - saxofoon Peter Smaal - trombone Mieke Groen, Daisy Moonen, Renate van Helvoort - achtergrondzang</p>
DESCRIPTION:<a href='/agenda/2026/4/19/steely-again-steely-dan-tribute-217195'>/agenda/2026/4/19/steely-again-steely-dan-tribute-217195</a> || <p>Op zondag 19 april staat Steely Again, de Steely Dan tribute band, in Brebl. Met een mix van passie, muzikaliteit en precisie brengen de muzikanten de tijdloze muziek van Steely Dan weer helemaal tot leven. Denk aan loepzuivere blazers, strakke grooves en jazzy zangharmonieën.</p><p>Steely Again brengt een zorgvuldig samengesteld eerbetoon aan het werk van Steely Dan, een band die bekendstaat om haar eigenzinnige en verfijnde muziekstijl, waarin jazz, rock en complexe arrangementen samenkomen. De 11-koppige band heeft een uitgebreide bezetting waarmee de kenmerkende sound en gelaagdheid van Steely Dan zo authentiek mogelijk wordt benaderd. Het optreden biedt een middag vol herkenning en muzikale finesse.</p><p>Brebl, 19 april 15.15 uur, tickets via Brebl € 10,00 VVK, € 13,00 ADD</p><p>Bezetting: Johan Willems - zang Hans te Pas - gitaar Jack Verhoeven - toetsen Armand Wemelsfelder - bas Raymond Falkenburg - drums Hans Govaart - trompet Joost de Roij - saxofoon Peter Smaal - trombone Mieke Groen, Daisy Moonen, Renate van Helvoort - achtergrondzang</p>
LAST-MODIFIED:20260425T181931Z
LOCATION: Brebl |   Nijmegen
SEQUENCE:0
STATUS:CONFIRMED
SUMMARY:Steely Again: Steely Dan tribute
TRANSP:OPAQUE
END:VEVENT
END:VCALENDAR
