BEGIN:VCALENDAR
PRODID:-//PUBBLE//agenda//NL
VERSION:2.0
METHOD:PUBLISH
BEGIN:VEVENT
DTSTART:20260408T144147Z
DTEND:20260428T193000Z
DTSTAMP:20260420T200149Z
UID:74492ff6-e453-4ef1-a144-63ea6bdffe37
CREATED:20260420T200149Z
NAME:Workshop Speksteen bewerken brugnijmegen.nl
X-WR-CALNAME:Workshop Speksteen bewerken
X-ALT-DESC;FMTTYPE=text/html:<a href='/agenda/2026/4/28/workshop-speksteen-bewerken-217201'>/agenda/2026/4/28/workshop-speksteen-bewerken-217201</a> || <p>NIJMEGEN - Renée Rokers verzorgt dinsdag 28 april in Creatief Centrum Nijmegen-Zuid (Tolhuis 44-44 in Nijmegen) een workshop speksteen bewerken. De workshop is van 19.00 tot 21.30 uur en na afloop ga je met een zelfgemaakt beeldje naar huis.</p><p>Doordat speksteen een zachte steensoort is, kun je het gemakkelijk verwerken tot een beeld. In het maken van een beeld gaan echter heel wat uren zitten. Om je ervaring te laten opdoen met de mogelijkheden van speksteen, ga je in deze workshop aan de slag met een voorgevormde steen.&nbsp;</p><p>Deelname kost 20 euro per persoon (inclusief materialen, begeleiding, gereedschap in bruikleen en koffie of thee). Speksteen stoft tijdens het bewerken, dus trek niet je mooiste kleren aan. En neem een oude handdoek mee. Aanmelden via<a href="https://www.ccnz.nl" target="_blank"> www.ccnz.nl</a>.</p>
DESCRIPTION:<a href='/agenda/2026/4/28/workshop-speksteen-bewerken-217201'>/agenda/2026/4/28/workshop-speksteen-bewerken-217201</a> || <p>NIJMEGEN - Renée Rokers verzorgt dinsdag 28 april in Creatief Centrum Nijmegen-Zuid (Tolhuis 44-44 in Nijmegen) een workshop speksteen bewerken. De workshop is van 19.00 tot 21.30 uur en na afloop ga je met een zelfgemaakt beeldje naar huis.</p><p>Doordat speksteen een zachte steensoort is, kun je het gemakkelijk verwerken tot een beeld. In het maken van een beeld gaan echter heel wat uren zitten. Om je ervaring te laten opdoen met de mogelijkheden van speksteen, ga je in deze workshop aan de slag met een voorgevormde steen.&nbsp;</p><p>Deelname kost 20 euro per persoon (inclusief materialen, begeleiding, gereedschap in bruikleen en koffie of thee). Speksteen stoft tijdens het bewerken, dus trek niet je mooiste kleren aan. En neem een oude handdoek mee. Aanmelden via<a href="https://www.ccnz.nl" target="_blank"> www.ccnz.nl</a>.</p>
LAST-MODIFIED:20260420T200149Z
LOCATION: Creatief Centrum Nijmegen Zuid  | Tolhuis 44-44 Nijmegen
SEQUENCE:0
STATUS:CONFIRMED
SUMMARY:Workshop Speksteen bewerken
TRANSP:OPAQUE
END:VEVENT
END:VCALENDAR
