BEGIN:VCALENDAR
PRODID:-//PUBBLE//agenda//NL
VERSION:2.0
METHOD:PUBLISH
BEGIN:VEVENT
DTSTART:20260410T075507Z
DTEND:20260410T085507Z
DTSTAMP:20260421T120926Z
UID:f2f5077c-b6ab-401e-ae6e-9dfee6b88469
CREATED:20260421T120926Z
NAME:Nimweegse Ferhaole Aofend in Bibliotheek Mariënburg brugnijmegen.nl
X-WR-CALNAME:Nimweegse Ferhaole Aofend in Bibliotheek Mariënburg
X-ALT-DESC;FMTTYPE=text/html:<a href='/agenda/2026/4/21/nimweegse-ferhaole-aofend-in-bibliotheek-marienburg-217288'>/agenda/2026/4/21/nimweegse-ferhaole-aofend-in-bibliotheek-marienburg-217288</a> || <p>NIJMEGEN Tijdens de Nimweegse Ferhaole Aofend op dinsdag 21 april in Bibliotheek Mariënburg kun je luisteren naar de tien mooiste, grappigste of spannendste verhalen over Nijmegen. De avond wordt op humoristische wijze aan elkaar gekletst door Evie van de Heuvel als de enige echte Mariken van Nimwegen en er is er Nimweegse muziek.</p><p>De verhalen die tijdens de Nimweegse Ferhoale Aofend worden voorgedragen, zijn gekozen uit de inzendingen van de Nimweegse Schrijfwedstrijd. Van een grappige anekdote over een mislukte date in het Goffertpark tot een spannend verhaal in de steegjes van de benedenstad: alles mocht, zolang Nijmegen maar het decor vormde. Alle genres met tekst als basis, van verhalen tot gedichten, van columns tot songteksten, waren welkom. Verwacht een gezellige avond met lach en een traan en een lekkere dosis Nimweegs dialect.</p><p><strong>Nije Nimweegse Revue</strong></p><p>Aan het eind van de avond maakt de jury de winnaar van de Schrijfwedstrijd bekend. Deze wint een plekje in de Nije Nimweegse Revue op 16 en 17 mei in de Lindenberg én twee vrijkaarten voor deze avondvullende show.</p><p>Deze show staat in het teken van wat Nijmegen én haar inwoners zo bijzonder maakt. Zing mee met oude én nieuwe liedjes, spijker je kennis <em>fan de Nimweegse taol</em> bij en laat je verrassen door een kleurrijke verzameling optredens van o.a. Ut Nimweegs Smartlappenkoor, Henniesee, Jenzl Crocker, theatergroep Plubo, stadstaalkundige Luis Miguel Rojas-Berscia en natuurlijk de winnaar van de Nimweegse Ferhaole Aofend.</p><p><strong>Kaartverkoop</strong></p><p>De Nimweegse Ferhoale Aofend op dinsdag 21 april begint om 19.30 uur en duurt tot 21.00 uur. Kaarten kosten 500 euro per persoon. Ze zijn verkrijgbaar via <a href="https://www.obgz.nl/agenda" target="_blank">www.obgz.nl/agenda</a>. Kaarten voor de Nije Nimweegse Revue zijn verkrijgbaar via <a href="https://www.delindenberg.com" target="_blank">www.delindenberg.com</a>.</p>
DESCRIPTION:<a href='/agenda/2026/4/21/nimweegse-ferhaole-aofend-in-bibliotheek-marienburg-217288'>/agenda/2026/4/21/nimweegse-ferhaole-aofend-in-bibliotheek-marienburg-217288</a> || <p>NIJMEGEN Tijdens de Nimweegse Ferhaole Aofend op dinsdag 21 april in Bibliotheek Mariënburg kun je luisteren naar de tien mooiste, grappigste of spannendste verhalen over Nijmegen. De avond wordt op humoristische wijze aan elkaar gekletst door Evie van de Heuvel als de enige echte Mariken van Nimwegen en er is er Nimweegse muziek.</p><p>De verhalen die tijdens de Nimweegse Ferhoale Aofend worden voorgedragen, zijn gekozen uit de inzendingen van de Nimweegse Schrijfwedstrijd. Van een grappige anekdote over een mislukte date in het Goffertpark tot een spannend verhaal in de steegjes van de benedenstad: alles mocht, zolang Nijmegen maar het decor vormde. Alle genres met tekst als basis, van verhalen tot gedichten, van columns tot songteksten, waren welkom. Verwacht een gezellige avond met lach en een traan en een lekkere dosis Nimweegs dialect.</p><p><strong>Nije Nimweegse Revue</strong></p><p>Aan het eind van de avond maakt de jury de winnaar van de Schrijfwedstrijd bekend. Deze wint een plekje in de Nije Nimweegse Revue op 16 en 17 mei in de Lindenberg én twee vrijkaarten voor deze avondvullende show.</p><p>Deze show staat in het teken van wat Nijmegen én haar inwoners zo bijzonder maakt. Zing mee met oude én nieuwe liedjes, spijker je kennis <em>fan de Nimweegse taol</em> bij en laat je verrassen door een kleurrijke verzameling optredens van o.a. Ut Nimweegs Smartlappenkoor, Henniesee, Jenzl Crocker, theatergroep Plubo, stadstaalkundige Luis Miguel Rojas-Berscia en natuurlijk de winnaar van de Nimweegse Ferhaole Aofend.</p><p><strong>Kaartverkoop</strong></p><p>De Nimweegse Ferhoale Aofend op dinsdag 21 april begint om 19.30 uur en duurt tot 21.00 uur. Kaarten kosten 500 euro per persoon. Ze zijn verkrijgbaar via <a href="https://www.obgz.nl/agenda" target="_blank">www.obgz.nl/agenda</a>. Kaarten voor de Nije Nimweegse Revue zijn verkrijgbaar via <a href="https://www.delindenberg.com" target="_blank">www.delindenberg.com</a>.</p>
LAST-MODIFIED:20260421T120926Z
LOCATION: Bibliotheek Mariënburg | Mariënburg  Nijmegen
SEQUENCE:0
STATUS:CONFIRMED
SUMMARY:Nimweegse Ferhaole Aofend in Bibliotheek Mariënburg
TRANSP:OPAQUE
END:VEVENT
END:VCALENDAR
