BEGIN:VCALENDAR
PRODID:-//PUBBLE//agenda//NL
VERSION:2.0
METHOD:PUBLISH
BEGIN:VEVENT
DTSTART:20260411T154259Z
DTEND:20260425T143000Z
DTSTAMP:20260425T135741Z
UID:fef93b02-b7ed-4700-8796-5a27445b50dc
CREATED:20260425T135741Z
NAME:Repaircafé Brakkenstein brugnijmegen.nl
X-WR-CALNAME:Repaircafé Brakkenstein
X-ALT-DESC;FMTTYPE=text/html:<a href='/agenda/2026/4/25/repaircafe-brakkenstein-217381'>/agenda/2026/4/25/repaircafe-brakkenstein-217381</a> || <p>NIJMEGEN - In Aqua Viva aan de Heyendaalseweg 290 in Nijmegen is zaterdag 25 april weer een Repaircafé van 14.00 tot 16.30 uur (laatste aanname van spullen tot 16.00 uur).
</p><p>U kunt er terecht voor reparaties aan huishoudelijke apparaten, computer, textiel en klein houten speelgoed en meubilair. Ook voor kleine reparaties aan de fiets kunt u terecht. Een vrijwillige bijdrage wordt op prijs gesteld.</p>
DESCRIPTION:<a href='/agenda/2026/4/25/repaircafe-brakkenstein-217381'>/agenda/2026/4/25/repaircafe-brakkenstein-217381</a> || <p>NIJMEGEN - In Aqua Viva aan de Heyendaalseweg 290 in Nijmegen is zaterdag 25 april weer een Repaircafé van 14.00 tot 16.30 uur (laatste aanname van spullen tot 16.00 uur).
</p><p>U kunt er terecht voor reparaties aan huishoudelijke apparaten, computer, textiel en klein houten speelgoed en meubilair. Ook voor kleine reparaties aan de fiets kunt u terecht. Een vrijwillige bijdrage wordt op prijs gesteld.</p>
LAST-MODIFIED:20260425T135741Z
LOCATION: Aqua Viva | Heyendaalseweg 290 Nijmegen
SEQUENCE:0
STATUS:CONFIRMED
SUMMARY:Repaircafé Brakkenstein
TRANSP:OPAQUE
END:VEVENT
END:VCALENDAR
