BEGIN:VCALENDAR
PRODID:-//PUBBLE//agenda//NL
VERSION:2.0
METHOD:PUBLISH
BEGIN:VEVENT
DTSTART:20260413T061804Z
DTEND:20260413T071804Z
DTSTAMP:20260420T165440Z
UID:0e6edcf9-3fbe-4fe6-aab1-811d1def97b8
CREATED:20260420T165440Z
NAME:Meet @ Buur: Craft & Cinema brugnijmegen.nl
X-WR-CALNAME:Meet @ Buur: Craft & Cinema
X-ALT-DESC;FMTTYPE=text/html:<a href='/agenda/2026/4/20/meet-buur-craft-cinema-217406'>/agenda/2026/4/20/meet-buur-craft-cinema-217406</a> || <p>NIJMEGEN - Ben je tussen de 25 en 45 jaar en wil je graag nieuwe mensen leren kennen? Nijmegen Samen en BUUR Brakkenstein organiseren 20 april samen Meet @ Buur: Craft &amp; Cinema.</p><p>Tijdens deze avond in de wijkplaats aan de Deken Hensburchstraat 2 in Nijmegen wordt de klassieker ‘Cool Runnings’ vertoond. Wat deze avond bijzonder maakt? Je kunt ondertussen tekenen/doodelen, haken of breien – of gewoon ontspannen meekijken. De inloop is om 19.30 uur, de film start om 20.00 uur. Deelname kost 5,00 euro (inclusief tekenmateriaal, een drankje en popcorn). Wil je erbij zijn of meer weten? Kijk op <a href="https://www.nijmegensamen.nl" target="_blank">www.nijmegensamen.nl</a> of mail naar marieke@nijmegensamen.nl.</p>
DESCRIPTION:<a href='/agenda/2026/4/20/meet-buur-craft-cinema-217406'>/agenda/2026/4/20/meet-buur-craft-cinema-217406</a> || <p>NIJMEGEN - Ben je tussen de 25 en 45 jaar en wil je graag nieuwe mensen leren kennen? Nijmegen Samen en BUUR Brakkenstein organiseren 20 april samen Meet @ Buur: Craft &amp; Cinema.</p><p>Tijdens deze avond in de wijkplaats aan de Deken Hensburchstraat 2 in Nijmegen wordt de klassieker ‘Cool Runnings’ vertoond. Wat deze avond bijzonder maakt? Je kunt ondertussen tekenen/doodelen, haken of breien – of gewoon ontspannen meekijken. De inloop is om 19.30 uur, de film start om 20.00 uur. Deelname kost 5,00 euro (inclusief tekenmateriaal, een drankje en popcorn). Wil je erbij zijn of meer weten? Kijk op <a href="https://www.nijmegensamen.nl" target="_blank">www.nijmegensamen.nl</a> of mail naar marieke@nijmegensamen.nl.</p>
LAST-MODIFIED:20260420T165440Z
LOCATION: BUUR | Deken Hensburchstraat  2 Nijmegen
SEQUENCE:0
STATUS:CONFIRMED
SUMMARY:Meet @ Buur: Craft & Cinema
TRANSP:OPAQUE
END:VEVENT
END:VCALENDAR
