BEGIN:VCALENDAR
PRODID:-//PUBBLE//agenda//NL
VERSION:2.0
METHOD:PUBLISH
BEGIN:VEVENT
DTSTART:20260413T083801Z
DTEND:20260413T093801Z
DTSTAMP:20260421T151521Z
UID:74f02075-0b6b-43ad-840e-4d198aec2d9e
CREATED:20260421T151521Z
NAME:Indische Literaire Salon Nijmegen brugnijmegen.nl
X-WR-CALNAME:Indische Literaire Salon Nijmegen
X-ALT-DESC;FMTTYPE=text/html:<a href='/agenda/2026/4/26/indische-literaire-salon-nijmegen-217434'>/agenda/2026/4/26/indische-literaire-salon-nijmegen-217434</a> || <p>NIJMEGEN - De Indische Literaire Salon in het Oud Burgeren Gasthuis (OBG) in Nijmegen staat zondag 26 april in het teken van repatrianten en Indië-veteranen. Gasten zijn Wendela Gronthoud en Martin Hendriksma. De presentatie is in handen van Peter van Riel. Inloop vanaf 13.30 uur.
</p><p>Dat Indische Nederlanders eigenlijk een soort landverhuizers waren en minder repatrianten in de strikte zin van het woord (men kende het vaderland immers niet), maakt Wendela Gronthoud duidelijk in haar boek ‘<em>Landverhuizers rond de Sloterplas’</em>, over de vroege lichting Indo’s in Nederland die zich in de nieuwe wijken van Amsterdam vestigden. Die pioniers kwamen vanaf eind jaren veertig/begin vijftig door omstandigheden gedwongen naar hier. Zij bereidden de weg voor latere nieuwkomers, uit Indië en elders. De auteur maakte een mooie serie portretten van een verdwijnende generatie die Nederlands-Indië nog net heeft gekend. Een eerbetoon.
</p><p>Martin Hendriksma schrijft in zijn nieuwe roman over een jongen van het Friese platteland die in 1946 nietsvermoedend als soldaat naar Indië ging om de Japanners te verdrijven. Maar die waren toen al weg en hij belandde midden in een guerrillaoorlog. Een heel andere vijand diende zich aan: de Indonesische vrijheidsstrijder. ‘<em>KOP</em>’ heet zijn boek; een indringend (liefdes-)verhaal tegen de achtergrond van de Politionele Acties, zoals de koloniale oorlog destijds werd genoemd. En toen was Indië voorbij en begonnen de veteranen en repatrianten aan een moeizame periode. Zo hebben beide verhalen met elkaar te maken.
</p><p>Aanmelden: indischesalon@gmail.com Entree: 12,50 euro (graag gepast); OBG-kortingspas 10,00 euro.</p>
DESCRIPTION:<a href='/agenda/2026/4/26/indische-literaire-salon-nijmegen-217434'>/agenda/2026/4/26/indische-literaire-salon-nijmegen-217434</a> || <p>NIJMEGEN - De Indische Literaire Salon in het Oud Burgeren Gasthuis (OBG) in Nijmegen staat zondag 26 april in het teken van repatrianten en Indië-veteranen. Gasten zijn Wendela Gronthoud en Martin Hendriksma. De presentatie is in handen van Peter van Riel. Inloop vanaf 13.30 uur.
</p><p>Dat Indische Nederlanders eigenlijk een soort landverhuizers waren en minder repatrianten in de strikte zin van het woord (men kende het vaderland immers niet), maakt Wendela Gronthoud duidelijk in haar boek ‘<em>Landverhuizers rond de Sloterplas’</em>, over de vroege lichting Indo’s in Nederland die zich in de nieuwe wijken van Amsterdam vestigden. Die pioniers kwamen vanaf eind jaren veertig/begin vijftig door omstandigheden gedwongen naar hier. Zij bereidden de weg voor latere nieuwkomers, uit Indië en elders. De auteur maakte een mooie serie portretten van een verdwijnende generatie die Nederlands-Indië nog net heeft gekend. Een eerbetoon.
</p><p>Martin Hendriksma schrijft in zijn nieuwe roman over een jongen van het Friese platteland die in 1946 nietsvermoedend als soldaat naar Indië ging om de Japanners te verdrijven. Maar die waren toen al weg en hij belandde midden in een guerrillaoorlog. Een heel andere vijand diende zich aan: de Indonesische vrijheidsstrijder. ‘<em>KOP</em>’ heet zijn boek; een indringend (liefdes-)verhaal tegen de achtergrond van de Politionele Acties, zoals de koloniale oorlog destijds werd genoemd. En toen was Indië voorbij en begonnen de veteranen en repatrianten aan een moeizame periode. Zo hebben beide verhalen met elkaar te maken.
</p><p>Aanmelden: indischesalon@gmail.com Entree: 12,50 euro (graag gepast); OBG-kortingspas 10,00 euro.</p>
LAST-MODIFIED:20260421T151521Z
LOCATION: OBG | Prof. Cornelissenstraat 2  Nijmegen
SEQUENCE:0
STATUS:CONFIRMED
SUMMARY:Indische Literaire Salon Nijmegen
TRANSP:OPAQUE
END:VEVENT
END:VCALENDAR
