BEGIN:VCALENDAR
PRODID:-//PUBBLE//agenda//NL
VERSION:2.0
METHOD:PUBLISH
BEGIN:VEVENT
DTSTART:20260413T092451Z
DTEND:20260421T200000Z
DTSTAMP:20260420T165440Z
UID:964dd8f4-9355-44ec-8458-f054c8d93a1f
CREATED:20260420T165440Z
NAME:Spelletjesavond in Creatief Centrum Nijmegen Zuid brugnijmegen.nl
X-WR-CALNAME:Spelletjesavond in Creatief Centrum Nijmegen Zuid
X-ALT-DESC;FMTTYPE=text/html:<a href='/agenda/2026/4/21/spelletjesavond-in-creatief-centrum-nijmegen-zuid-217445'>/agenda/2026/4/21/spelletjesavond-in-creatief-centrum-nijmegen-zuid-217445</a> || <p>NIJMEGEN - Er is dinsdag 21 april een spelletjesavond voor iedereen vanaf 16 jaar in Creatief Centrum Nijmegen Zuid aan Tolhuis 44-44 in Nijmegen.</p><p>Er is een ruime keuze aan spellen.&nbsp;Je mag ook je eigen spel meenemen. Je kunt vanaf 18.45 binnenlopen. De spelletjesavond is van 19.00 tot 22.00 uur. Toegang gratis. Je kunt je aanmelden door een mail te sturen naar info@ccnz.nl en vermeld eventueel aan welk spel je wilt deelnemen.</p>
DESCRIPTION:<a href='/agenda/2026/4/21/spelletjesavond-in-creatief-centrum-nijmegen-zuid-217445'>/agenda/2026/4/21/spelletjesavond-in-creatief-centrum-nijmegen-zuid-217445</a> || <p>NIJMEGEN - Er is dinsdag 21 april een spelletjesavond voor iedereen vanaf 16 jaar in Creatief Centrum Nijmegen Zuid aan Tolhuis 44-44 in Nijmegen.</p><p>Er is een ruime keuze aan spellen.&nbsp;Je mag ook je eigen spel meenemen. Je kunt vanaf 18.45 binnenlopen. De spelletjesavond is van 19.00 tot 22.00 uur. Toegang gratis. Je kunt je aanmelden door een mail te sturen naar info@ccnz.nl en vermeld eventueel aan welk spel je wilt deelnemen.</p>
LAST-MODIFIED:20260420T165440Z
LOCATION: Creatief Centrum Nijmegen Zuid  | Tolhuis 44-44 Nijmegen
SEQUENCE:0
STATUS:CONFIRMED
SUMMARY:Spelletjesavond in Creatief Centrum Nijmegen Zuid
TRANSP:OPAQUE
END:VEVENT
END:VCALENDAR
