BEGIN:VCALENDAR
PRODID:-//PUBBLE//agenda//NL
VERSION:2.0
METHOD:PUBLISH
BEGIN:VEVENT
DTSTART:20260415T193548Z
DTEND:20260425T110000Z
DTSTAMP:20260425T135741Z
UID:50cada68-c09b-46c8-9160-26b5524478de
CREATED:20260425T135741Z
NAME:Plantjesmarkt bij de Warmoes brugnijmegen.nl
X-WR-CALNAME:Plantjesmarkt bij de Warmoes
X-ALT-DESC;FMTTYPE=text/html:<a href='/agenda/2026/4/25/plantjesmarkt-bij-de-warmoes-217626'>/agenda/2026/4/25/plantjesmarkt-bij-de-warmoes-217626</a> || <p>LENT - Zaterdag 25 april is de jaarlijkse plantjesmarkt bij de Warmoes in Lent. Er is een grote keus uit moestuin- en siertuinplanten, door de Warmoes zelf opgekweekt van eigen zaad of biologisch zaad. Denk aan verschillende soorten tomatenrassen, koolplantjes, aardbeien, slaplantjes en pompoenplantjes. 
</p><p>De Warmoes heeft een inspiratietuin aangelegd met sierplanten, aantrekkelijk voor bijen en vlinders. De sierplanten op de plantjesmarkt zijn hier stekjes van. Verder zijn er ook bessenstruiken en is er biologische, veenvrije potgrond te koop. De plantjesmarkt is van 10.00 tot 13.00 uur, gratis entree. </p>
DESCRIPTION:<a href='/agenda/2026/4/25/plantjesmarkt-bij-de-warmoes-217626'>/agenda/2026/4/25/plantjesmarkt-bij-de-warmoes-217626</a> || <p>LENT - Zaterdag 25 april is de jaarlijkse plantjesmarkt bij de Warmoes in Lent. Er is een grote keus uit moestuin- en siertuinplanten, door de Warmoes zelf opgekweekt van eigen zaad of biologisch zaad. Denk aan verschillende soorten tomatenrassen, koolplantjes, aardbeien, slaplantjes en pompoenplantjes. 
</p><p>De Warmoes heeft een inspiratietuin aangelegd met sierplanten, aantrekkelijk voor bijen en vlinders. De sierplanten op de plantjesmarkt zijn hier stekjes van. Verder zijn er ook bessenstruiken en is er biologische, veenvrije potgrond te koop. De plantjesmarkt is van 10.00 tot 13.00 uur, gratis entree. </p>
LAST-MODIFIED:20260425T135741Z
LOCATION: De Warmoes | Griftdijk Noord 11 Lent
SEQUENCE:0
STATUS:CONFIRMED
SUMMARY:Plantjesmarkt bij de Warmoes
TRANSP:OPAQUE
END:VEVENT
END:VCALENDAR
