BEGIN:VCALENDAR
PRODID:-//PUBBLE//agenda//NL
VERSION:2.0
METHOD:PUBLISH
BEGIN:VEVENT
DTSTART:20260416T074036Z
DTEND:20260503T150000Z
DTSTAMP:20260425T182044Z
UID:f11c0a7d-e6ea-48ea-ba7d-c731cc006f0c
CREATED:20260425T182044Z
NAME:Expositie ‘Samengaan’  brugnijmegen.nl
X-WR-CALNAME:Expositie ‘Samengaan’ 
X-ALT-DESC;FMTTYPE=text/html:<a href='/agenda/2026/5/2/expositie-samengaan-217694'>/agenda/2026/5/2/expositie-samengaan-217694</a> || <p>PERSINGEN - Ineke Teunissen, Lin Hageman, Fenna van Keulen, Jacqueline van den Tillaart en Eva Schoots exposeren zaterdag 2 en zondag 3 mei in het Kerkje van Persingen. De expositie heeft als titel ‘Samengaan’.
</p><p>De inspiratiebronnen zijn de natuur, plaatsen van stilte, symbolen uit oude culturen en fragiliteit versus kracht. Ondanks de diversiteit van hun kunstvormen is een mooie sfeer van samenhang en harmonie zichtbaar en voelbaar.&nbsp;Het Kerkje is beide dagen geopend van 11.00 tot 17.00 uur.</p>
DESCRIPTION:<a href='/agenda/2026/5/2/expositie-samengaan-217694'>/agenda/2026/5/2/expositie-samengaan-217694</a> || <p>PERSINGEN - Ineke Teunissen, Lin Hageman, Fenna van Keulen, Jacqueline van den Tillaart en Eva Schoots exposeren zaterdag 2 en zondag 3 mei in het Kerkje van Persingen. De expositie heeft als titel ‘Samengaan’.
</p><p>De inspiratiebronnen zijn de natuur, plaatsen van stilte, symbolen uit oude culturen en fragiliteit versus kracht. Ondanks de diversiteit van hun kunstvormen is een mooie sfeer van samenhang en harmonie zichtbaar en voelbaar.&nbsp;Het Kerkje is beide dagen geopend van 11.00 tot 17.00 uur.</p>
LAST-MODIFIED:20260425T182044Z
LOCATION: Kerkje Persingen | Persingensestraat 7 0,Persingen
SEQUENCE:0
STATUS:CONFIRMED
SUMMARY:Expositie ‘Samengaan’ 
TRANSP:OPAQUE
END:VEVENT
END:VCALENDAR
