BEGIN:VCALENDAR
PRODID:-//PUBBLE//agenda//NL
VERSION:2.0
METHOD:PUBLISH
BEGIN:VEVENT
DTSTART:20260416T082932Z
DTEND:20260621T170000Z
DTSTAMP:20260425T165804Z
UID:a8260482-e1a2-4817-96bd-b84207c69103
CREATED:20260425T165804Z
NAME:‘Stoelendans’, over ritme en balans en een vergrijzende wereld brugnijmegen.nl
X-WR-CALNAME:‘Stoelendans’, over ritme en balans en een vergrijzende wereld
X-ALT-DESC;FMTTYPE=text/html:<a href='/agenda/2026/4/24/stoelendans-over-ritme-en-balans-en-een-vergrijzende-wereld-217706'>/agenda/2026/4/24/stoelendans-over-ritme-en-balans-en-een-vergrijzende-wereld-217706</a> || <p>NIJMEGEN - Op vrijdag 24 april opent bij Expo Bart de tentoonstelling ‘<em>Stoelendans’</em> van kunstenaar Jelle Mastenbroek. In deze theatrale installatie nemen twee omgebouwde sta-op-stoelen de rol aan van op afstand bestuurbare dansers. Een dans die een samenleving verbeeldt die, ondanks afnemende middelen, het ritme probeert vast te houden. Een zoektocht naar evenwicht in een vergrijzende samenleving die niet aan de zijlijn staat, maar de hoofdrol speelt.</p><p>Met ‘<em>Stoelendans</em> zet Jelle een eerste stap in een nieuwe richting binnen zijn praktijk. Waar hij zich eerder vooral richtte op interactieve installaties waarin muziek en geluid centraal stonden, verschuift in dit werk de focus naar beweging. Het project markeert het begin van een onderzoek naar hoe kinetiek en choreografie een zelfstandige rol kunnen krijgen binnen zijn werk.</p><p>Jelle Mastenbroek (Groningen, 1988) staat bekend om zijn humoristische en toegankelijke installaties, waarin hij met iconische objecten maatschappelijke thema’s aansnijdt en bestaande stereotypen bevraagt. Zijn werk was eerder te zien op onder andere Oerol, in het Groninger Museum en het Princessehof.</p><p><strong>Opening</strong></p><p>De opening vindt plaats op vrijdag 24 april van 16.00 tot 19.00 uur. Iedereen is welkom! Gelijktijdig opent ook BURO #4: Khattar Shaheen, onderdeel van de kleinschalige tentoonstellingsreeks van Expo Bart voor lokaal talent. Tijdens de opening wordt wijn geschonken door The Wine Source.</p><p><strong>Praktische informatie</strong></p><p>Expo: ‘Stoelendans’ van Jelle Mastenbroek<br />Opening: vrijdag 24 april 2026, 16.00 – 19.00 uur<br />Te zien van: 25 april t/m 21 juni<br />Openingstijden: do t/m zo, 12.00 – 17.00 uur<br />Locatie: Expo Bart, Waalplein 6, Nyma-terrein, Nijmegen<br />Entree: gratis, wel graag even aanmelden via info@expobart.nl</p><p>Gedurende de looptijd van de tentoonstelling zal er nog een artist talk plaatsvinden. Houd onze website en socials in de gaten voor datum en tijd.</p><p><a href="https://www.expobart.nl" target="_blank">www.expobart.nl</a></p>
DESCRIPTION:<a href='/agenda/2026/4/24/stoelendans-over-ritme-en-balans-en-een-vergrijzende-wereld-217706'>/agenda/2026/4/24/stoelendans-over-ritme-en-balans-en-een-vergrijzende-wereld-217706</a> || <p>NIJMEGEN - Op vrijdag 24 april opent bij Expo Bart de tentoonstelling ‘<em>Stoelendans’</em> van kunstenaar Jelle Mastenbroek. In deze theatrale installatie nemen twee omgebouwde sta-op-stoelen de rol aan van op afstand bestuurbare dansers. Een dans die een samenleving verbeeldt die, ondanks afnemende middelen, het ritme probeert vast te houden. Een zoektocht naar evenwicht in een vergrijzende samenleving die niet aan de zijlijn staat, maar de hoofdrol speelt.</p><p>Met ‘<em>Stoelendans</em> zet Jelle een eerste stap in een nieuwe richting binnen zijn praktijk. Waar hij zich eerder vooral richtte op interactieve installaties waarin muziek en geluid centraal stonden, verschuift in dit werk de focus naar beweging. Het project markeert het begin van een onderzoek naar hoe kinetiek en choreografie een zelfstandige rol kunnen krijgen binnen zijn werk.</p><p>Jelle Mastenbroek (Groningen, 1988) staat bekend om zijn humoristische en toegankelijke installaties, waarin hij met iconische objecten maatschappelijke thema’s aansnijdt en bestaande stereotypen bevraagt. Zijn werk was eerder te zien op onder andere Oerol, in het Groninger Museum en het Princessehof.</p><p><strong>Opening</strong></p><p>De opening vindt plaats op vrijdag 24 april van 16.00 tot 19.00 uur. Iedereen is welkom! Gelijktijdig opent ook BURO #4: Khattar Shaheen, onderdeel van de kleinschalige tentoonstellingsreeks van Expo Bart voor lokaal talent. Tijdens de opening wordt wijn geschonken door The Wine Source.</p><p><strong>Praktische informatie</strong></p><p>Expo: ‘Stoelendans’ van Jelle Mastenbroek<br />Opening: vrijdag 24 april 2026, 16.00 – 19.00 uur<br />Te zien van: 25 april t/m 21 juni<br />Openingstijden: do t/m zo, 12.00 – 17.00 uur<br />Locatie: Expo Bart, Waalplein 6, Nyma-terrein, Nijmegen<br />Entree: gratis, wel graag even aanmelden via info@expobart.nl</p><p>Gedurende de looptijd van de tentoonstelling zal er nog een artist talk plaatsvinden. Houd onze website en socials in de gaten voor datum en tijd.</p><p><a href="https://www.expobart.nl" target="_blank">www.expobart.nl</a></p>
LAST-MODIFIED:20260425T165804Z
LOCATION: Expo Bart | Waalplein 6 Nijmegen
SEQUENCE:0
STATUS:CONFIRMED
SUMMARY:‘Stoelendans’, over ritme en balans en een vergrijzende wereld
TRANSP:OPAQUE
END:VEVENT
END:VCALENDAR
