BEGIN:VCALENDAR
PRODID:-//PUBBLE//agenda//NL
VERSION:2.0
METHOD:PUBLISH
BEGIN:VEVENT
DTSTART:20260425T100000Z
DTEND:20260621T150000Z
DTSTAMP:20260425T135755Z
UID:1bcc663f-af5d-49bb-81f9-9f7ef1d1607b
CREATED:20260425T135755Z
NAME:Stoelendans brugnijmegen.nl
X-WR-CALNAME:Stoelendans
X-ALT-DESC;FMTTYPE=text/html:<a href='/agenda/2026/4/25/stoelendans-217726'>/agenda/2026/4/25/stoelendans-217726</a> || <p>Twee sta-opstoelen bewegen op klassieke muziek. Een dans die een samenleving verbeeldt die, ondanks afnemende middelen, het ritme probeert vast te houden. Een zoektocht naar evenwicht in een vergrijzende wereld, naar balans in een toekomst waarin ouderen niet aan de zijlijn staan, maar een hoofdrol spelen.</p><p>Jelle Mastenbroek gebruikt in zijn werk humor en positiviteit om stereotypen te heroverwegen en sociale reflectie of verandering teweeg te brengen. In zijn interactieve installaties maakt hij gebruik van iconische objecten die door hun symbolische betekenis een verhaal of boodschap overbrengen.</p><p>Expo: Stoelendans van Jelle Mastenbroek&nbsp;</p><p>Te zien: 25 apr t/m 21 jun 2026</p><p>Open op: do t/m zo van 12 - 17 uur</p><p>Locatie: Expo Bart, Waalplein 6, NYMA-terrein, Nijmegen</p>
DESCRIPTION:<a href='/agenda/2026/4/25/stoelendans-217726'>/agenda/2026/4/25/stoelendans-217726</a> || <p>Twee sta-opstoelen bewegen op klassieke muziek. Een dans die een samenleving verbeeldt die, ondanks afnemende middelen, het ritme probeert vast te houden. Een zoektocht naar evenwicht in een vergrijzende wereld, naar balans in een toekomst waarin ouderen niet aan de zijlijn staan, maar een hoofdrol spelen.</p><p>Jelle Mastenbroek gebruikt in zijn werk humor en positiviteit om stereotypen te heroverwegen en sociale reflectie of verandering teweeg te brengen. In zijn interactieve installaties maakt hij gebruik van iconische objecten die door hun symbolische betekenis een verhaal of boodschap overbrengen.</p><p>Expo: Stoelendans van Jelle Mastenbroek&nbsp;</p><p>Te zien: 25 apr t/m 21 jun 2026</p><p>Open op: do t/m zo van 12 - 17 uur</p><p>Locatie: Expo Bart, Waalplein 6, NYMA-terrein, Nijmegen</p>
LAST-MODIFIED:20260425T135755Z
LOCATION: Expo Bart | Waalplein 6 Nijmegen
SEQUENCE:0
STATUS:CONFIRMED
SUMMARY:Stoelendans
TRANSP:OPAQUE
END:VEVENT
END:VCALENDAR
