BEGIN:VCALENDAR
PRODID:-//PUBBLE//agenda//NL
VERSION:2.0
METHOD:PUBLISH
BEGIN:VEVENT
DTSTART:20260425T100000Z
DTEND:20260517T150000Z
DTSTAMP:20260425T135724Z
UID:0624e1fb-6b3b-4eaa-a716-080711400daa
CREATED:20260425T135724Z
NAME:BURO #4: Khattar Shaheen brugnijmegen.nl
X-WR-CALNAME:BURO #4: Khattar Shaheen
X-ALT-DESC;FMTTYPE=text/html:<a href='/agenda/2026/4/25/buro-4-khattar-shaheen-217739'>/agenda/2026/4/25/buro-4-khattar-shaheen-217739</a> || <p>Graag nodigen we je uit voor BURO #4, waarin Khattar Shaheen een nieuwe serie werk zal tonen.</p><p>Khattar (1993, Syrië) is schilder, illustrator en animator. Zijn werk combineert persoonlijke ervaringen van oorlog, migratie en veerkracht met universele thema’s, die uitnodigen tot reflectie en dialoog.</p><p>BURO is een kleinschalige tentoonstellingsreeks van Expo Bart voor lokaal talent, met een open en informele sfeer.</p><p>Expo: BURO #4 Khattar Shaheen</p><p>Te zien: 25 apr / 17 mei&nbsp;</p><p>Locatie: Expo Bart, Waalplein 6, NYMA-terrein, Nijmegen</p><p>Open op: do t/m zo van 12 - 17 uur</p>
DESCRIPTION:<a href='/agenda/2026/4/25/buro-4-khattar-shaheen-217739'>/agenda/2026/4/25/buro-4-khattar-shaheen-217739</a> || <p>Graag nodigen we je uit voor BURO #4, waarin Khattar Shaheen een nieuwe serie werk zal tonen.</p><p>Khattar (1993, Syrië) is schilder, illustrator en animator. Zijn werk combineert persoonlijke ervaringen van oorlog, migratie en veerkracht met universele thema’s, die uitnodigen tot reflectie en dialoog.</p><p>BURO is een kleinschalige tentoonstellingsreeks van Expo Bart voor lokaal talent, met een open en informele sfeer.</p><p>Expo: BURO #4 Khattar Shaheen</p><p>Te zien: 25 apr / 17 mei&nbsp;</p><p>Locatie: Expo Bart, Waalplein 6, NYMA-terrein, Nijmegen</p><p>Open op: do t/m zo van 12 - 17 uur</p>
LAST-MODIFIED:20260425T135724Z
LOCATION: Expo Bart | Waalplein 6 Nijmegen
SEQUENCE:0
STATUS:CONFIRMED
SUMMARY:BURO #4: Khattar Shaheen
TRANSP:OPAQUE
END:VEVENT
END:VCALENDAR
