BEGIN:VCALENDAR
PRODID:-//PUBBLE//agenda//NL
VERSION:2.0
METHOD:PUBLISH
BEGIN:VEVENT
DTSTART:20260420T090959Z
DTEND:20260420T100959Z
DTSTAMP:20260425T165748Z
UID:0a087149-e45c-4fe9-a56b-b7261d82b717
CREATED:20260425T165748Z
NAME:Te gast bij De Horde: RAAR! (6+), een ode aan het eigenaardige. brugnijmegen.nl
X-WR-CALNAME:Te gast bij De Horde: RAAR! (6+), een ode aan het eigenaardige.
X-ALT-DESC;FMTTYPE=text/html:<a href='/agenda/2026/4/25/te-gast-bij-de-horde-raar-6-een-ode-aan-het-eigenaardige--217916'>/agenda/2026/4/25/te-gast-bij-de-horde-raar-6-een-ode-aan-het-eigenaardige--217916</a> || <p>NIJMEGEN - Met Theater Het Badhuis aan de Daalseweg 262 in Nijmegen als stevige thuisbasis richt Theatergroep De Horde zich op regio Oost en van daaruit het hele land. Te gast bij De Horde is vrijdag 24 en zaterdag 25 april RAAR (6+).</p><p>Over RAAR!: verzamelaar Enzo reist rond met zijn eigen museum: een groot rariteitenkabinet vol met de raarste rariteiten. Overal waar hij komt, speurt hij naar nieuwe bijzonderheden en vol passie toont hij zijn verzameling aan zijn bezoekers. Zo kom je meer te weten over zijn collectie bijzondere tranen, ontdek je wat er zo speciaal is aan zijn sokkenverzameling, en als je geluk hebt, vertelt hij het verhaal van zijn expeditie naar Australië, op zoek naar het ei van misschien wel het raarste dier op aarde.</p><p>Tijdens de rondleiding loopt echter niet alles volgens plan. Kastjes die Enzo liever dichthoudt blijven openklappen, en dat werkt hem nogal op zijn zenuwen. Je zou bijna denken dat hij iets verbergt…</p><p>Met&nbsp;RAAR!&nbsp;onderzoekt Maanlanders de vraag wat normaal is en wat vreemd, en wie dat nou eigenlijk bepaalt. Kunnen we van ‘raar’ het nieuwe ‘cool’ maken?</p><p>Een verbindende voorstelling vol muziek, grappige en ontroerende verhalen over al onze eigenaardigheden, en verrassende interactie.</p><p>Vrijdag 24 april om 11.00 uur &amp; 14.00 uur</p><p>Zaterdag 25 april om 13.00 uur &amp; 16.00 uur</p><p><a href="https://theatergroepdehorde.nl/2026/02/05/raar/" target="_blank">theatergroepdehorde.nl/2026/02/05/raar/</a></p>
DESCRIPTION:<a href='/agenda/2026/4/25/te-gast-bij-de-horde-raar-6-een-ode-aan-het-eigenaardige--217916'>/agenda/2026/4/25/te-gast-bij-de-horde-raar-6-een-ode-aan-het-eigenaardige--217916</a> || <p>NIJMEGEN - Met Theater Het Badhuis aan de Daalseweg 262 in Nijmegen als stevige thuisbasis richt Theatergroep De Horde zich op regio Oost en van daaruit het hele land. Te gast bij De Horde is vrijdag 24 en zaterdag 25 april RAAR (6+).</p><p>Over RAAR!: verzamelaar Enzo reist rond met zijn eigen museum: een groot rariteitenkabinet vol met de raarste rariteiten. Overal waar hij komt, speurt hij naar nieuwe bijzonderheden en vol passie toont hij zijn verzameling aan zijn bezoekers. Zo kom je meer te weten over zijn collectie bijzondere tranen, ontdek je wat er zo speciaal is aan zijn sokkenverzameling, en als je geluk hebt, vertelt hij het verhaal van zijn expeditie naar Australië, op zoek naar het ei van misschien wel het raarste dier op aarde.</p><p>Tijdens de rondleiding loopt echter niet alles volgens plan. Kastjes die Enzo liever dichthoudt blijven openklappen, en dat werkt hem nogal op zijn zenuwen. Je zou bijna denken dat hij iets verbergt…</p><p>Met&nbsp;RAAR!&nbsp;onderzoekt Maanlanders de vraag wat normaal is en wat vreemd, en wie dat nou eigenlijk bepaalt. Kunnen we van ‘raar’ het nieuwe ‘cool’ maken?</p><p>Een verbindende voorstelling vol muziek, grappige en ontroerende verhalen over al onze eigenaardigheden, en verrassende interactie.</p><p>Vrijdag 24 april om 11.00 uur &amp; 14.00 uur</p><p>Zaterdag 25 april om 13.00 uur &amp; 16.00 uur</p><p><a href="https://theatergroepdehorde.nl/2026/02/05/raar/" target="_blank">theatergroepdehorde.nl/2026/02/05/raar/</a></p>
LAST-MODIFIED:20260425T165748Z
LOCATION: Het Badhuis | Daalseweg 262 Nijmegen
SEQUENCE:0
STATUS:CONFIRMED
SUMMARY:Te gast bij De Horde: RAAR! (6+), een ode aan het eigenaardige.
TRANSP:OPAQUE
END:VEVENT
END:VCALENDAR
