BEGIN:VCALENDAR
PRODID:-//PUBBLE//agenda//NL
VERSION:2.0
METHOD:PUBLISH
BEGIN:VEVENT
DTSTART:20260420T091342Z
DTEND:20260428T203000Z
DTSTAMP:20260421T145811Z
UID:c5c1a31a-7e1a-49d3-b537-4e470a8c988f
CREATED:20260421T145811Z
NAME:Dans mee met Cor Kersten bij OBG brugnijmegen.nl
X-WR-CALNAME:Dans mee met Cor Kersten bij OBG
X-ALT-DESC;FMTTYPE=text/html:<a href='/agenda/2026/4/28/dans-mee-met-cor-kersten-bij-obg-217918'>/agenda/2026/4/28/dans-mee-met-cor-kersten-bij-obg-217918</a> || <p>NIJMEGEN - Dans- en muziekliefhebbers zijn dinsdag 28 april weer welkom in Seniorencafé Burgerlust in OBG aan de  Prof. Cornelissenstraat 2 in Nijmegen. De dansavond is van 19.30 tot 22.30 uur en wordt verzorgd door de Groesbeekse entertainer Cor Kersten. De toegang is gratis, maar vergeet niet om contant geld mee te nemen voor de drankjes.
</p><p>“Bij Seniorencafé Burgerlust is het altijd een vrolijke boel. Vrijwilligers zorgen voor een warme sfeer, goede service en lekkere hapjes. Een ideale gelegenheid om nieuwe mensen te leren kennen of oude bekenden te ontmoeten. Zorg dat je op tijd bent, want het kan druk worden!”, aldus de organisatie.
</p><p>“OBG is dé plek voor iedereen die actief en gezond oud wil worden. Het gaat hier om samenzijn en ontmoeten. De brasserie is elke dag open voor een kopje koffie, een maaltijd of een praatje. Kom gerust eens langs en ervaar de sfeer!”</p>
DESCRIPTION:<a href='/agenda/2026/4/28/dans-mee-met-cor-kersten-bij-obg-217918'>/agenda/2026/4/28/dans-mee-met-cor-kersten-bij-obg-217918</a> || <p>NIJMEGEN - Dans- en muziekliefhebbers zijn dinsdag 28 april weer welkom in Seniorencafé Burgerlust in OBG aan de  Prof. Cornelissenstraat 2 in Nijmegen. De dansavond is van 19.30 tot 22.30 uur en wordt verzorgd door de Groesbeekse entertainer Cor Kersten. De toegang is gratis, maar vergeet niet om contant geld mee te nemen voor de drankjes.
</p><p>“Bij Seniorencafé Burgerlust is het altijd een vrolijke boel. Vrijwilligers zorgen voor een warme sfeer, goede service en lekkere hapjes. Een ideale gelegenheid om nieuwe mensen te leren kennen of oude bekenden te ontmoeten. Zorg dat je op tijd bent, want het kan druk worden!”, aldus de organisatie.
</p><p>“OBG is dé plek voor iedereen die actief en gezond oud wil worden. Het gaat hier om samenzijn en ontmoeten. De brasserie is elke dag open voor een kopje koffie, een maaltijd of een praatje. Kom gerust eens langs en ervaar de sfeer!”</p>
LAST-MODIFIED:20260421T145811Z
LOCATION: OBG | Prof. Cornelissenstraat 2  Nijmegen
SEQUENCE:0
STATUS:CONFIRMED
SUMMARY:Dans mee met Cor Kersten bij OBG
TRANSP:OPAQUE
END:VEVENT
END:VCALENDAR
