BEGIN:VCALENDAR
PRODID:-//PUBBLE//agenda//NL
VERSION:2.0
METHOD:PUBLISH
BEGIN:VEVENT
DTSTART:20260423T064607Z
DTEND:20260517T150000Z
DTSTAMP:20260425T181633Z
UID:544b241c-0ce2-4e43-823d-5592d4478534
CREATED:20260425T181633Z
NAME:Expositie tussen punt en vlak brugnijmegen.nl
X-WR-CALNAME:Expositie tussen punt en vlak
X-ALT-DESC;FMTTYPE=text/html:<a href='/agenda/2026/5/15/expositie-tussen-punt-en-vlak-218161'>/agenda/2026/5/15/expositie-tussen-punt-en-vlak-218161</a> || <p>NIJMEGEN - In het Dobbelmannklooster aan de Dobbelmannweg 1 in Nijmegen worden getoond schilderijen, tekeningen en grafiek van het oeuvre van Frans de Groot, inclusief gezamenlijk werk van Josée Wuyts en Frans de Groot (†2023).&nbsp;
</p><p>Openingstijden: 15 mei van 19.30-22.00 uur, met openingswoord van Marian de Groot, muziek van Earbeak en gedichten van Sara Frantzen-de Groot. En verder op 16 mei van 11.00-20.00 uur en 17 mei van 11.00-17.00 uur.&nbsp;</p>
DESCRIPTION:<a href='/agenda/2026/5/15/expositie-tussen-punt-en-vlak-218161'>/agenda/2026/5/15/expositie-tussen-punt-en-vlak-218161</a> || <p>NIJMEGEN - In het Dobbelmannklooster aan de Dobbelmannweg 1 in Nijmegen worden getoond schilderijen, tekeningen en grafiek van het oeuvre van Frans de Groot, inclusief gezamenlijk werk van Josée Wuyts en Frans de Groot (†2023).&nbsp;
</p><p>Openingstijden: 15 mei van 19.30-22.00 uur, met openingswoord van Marian de Groot, muziek van Earbeak en gedichten van Sara Frantzen-de Groot. En verder op 16 mei van 11.00-20.00 uur en 17 mei van 11.00-17.00 uur.&nbsp;</p>
LAST-MODIFIED:20260425T181633Z
LOCATION: Dobbelmannklooster | Dobbelmannweg 1 Nijmegen
SEQUENCE:0
STATUS:CONFIRMED
SUMMARY:Expositie tussen punt en vlak
TRANSP:OPAQUE
END:VEVENT
END:VCALENDAR
